BEGIN:VCALENDAR
VERSION:2.0
PRODID:icalendar-ruby
CALSCALE:GREGORIAN
BEGIN:VEVENT
DTSTAMP:20260421T103516Z
UID:ddc28c65-1e68-4cf1-a1f1-d8d814098854
DTSTART;VALUE=DATE:20251112
DESCRIPTION:Property ID# 599128\, Locatoin: Holmwood Auction Rooms\, 397 Il
 am Road\, Ilam  (Unless Sold Prior)\, Time: 10:00AM
SUMMARY:Auction for 
END:VEVENT
END:VCALENDAR
